BEGIN:VCALENDAR
VERSION:2.0
PRODID:-//K9 Spuerhundeschule Brazil Shop - ECPv6.15.14//NONSGML v1.0//EN
CALSCALE:GREGORIAN
METHOD:PUBLISH
X-ORIGINAL-URL:https://shop.spuerhundeschule.com
X-WR-CALDESC:Veranstaltungen für K9 Spuerhundeschule Brazil Shop
REFRESH-INTERVAL;VALUE=DURATION:PT1H
X-Robots-Tag:noindex
X-PUBLISHED-TTL:PT1H
BEGIN:VTIMEZONE
TZID:UTC
BEGIN:STANDARD
TZOFFSETFROM:+0000
TZOFFSETTO:+0000
TZNAME:UTC
DTSTART:20200101T000000
END:STANDARD
END:VTIMEZONE
BEGIN:VEVENT
DTSTART;VALUE=DATE:20210828
DTEND;VALUE=DATE:20210830
DTSTAMP:20260421T085738
CREATED:20210201T175920Z
LAST-MODIFIED:20210201T175920Z
UID:325712-1630108800-1630281599@shop.spuerhundeschule.com
SUMMARY:Workshop Detecção de Explosivos e Entorpecentes
DESCRIPTION:Seminário de detecção de drogas\, explosivos de percevejos\, cães nacional e internacionalmente\nEste seminário é oferecido a treinadores de cães da indústria de segurança privada\, interessados ​​em realizar suas ambições profissionais como adestradores especializados\, bem como a instituições oficiais e autoridades que trabalham com cães detectores de explosivos ou drogas. O seminário acima é certificado! Isso significa; Ao final do evento você receberá um certificado confirmando sua participação e atuação.  \nConteúdo com os seguintes focos: \nMissão tática\, técnicas de liderança Teoria / teoria jurídica / teoria USBV / divisão espacial e elaboração Perseguição de pessoas Segurança química / limpeza Diferenciação de odores Métodos de introdução de substâncias Condicionamento em uma parede moderna de busca de doenças Confirmação de trabalho de equipe pontual e preciso Leitura correta de cães Térmica / influências ambientais climáticas Trabalhando com as condições climáticas Condições Troca de experiência teórica e prática Teste funcional real no final do treinamento certificado
URL:https://shop.spuerhundeschule.com/schulungen/workshop-deteccao-de-explosivos-e-entorpecentes/
LOCATION:Diadema – Sao Paulo – Brasil\, Av. Casa Grande 769\, Diadema\, Sao Paulo\, 09961-350\, Brasil
CATEGORIES:Cães detectores de drogas,Treinamento de cães de detecção de explosivos,Treinamento especial para equipes de cães farejadores
ATTACH;FMTTYPE=image/jpeg:https://shop.spuerhundeschule.com/wp-content/uploads/2019/10/Seminario-Navy-Brasil-scaled.jpg
ORGANIZER;CN="K9 Detection Dog School Brazil LTDa":MAILTO:marcelo.balleroni@spuerhundeschule.com
END:VEVENT
BEGIN:VEVENT
DTSTART;VALUE=DATE:20210724
DTEND;VALUE=DATE:20210726
DTSTAMP:20260421T085738
CREATED:20210128T153624Z
LAST-MODIFIED:20210201T175410Z
UID:325677-1627084800-1627257599@shop.spuerhundeschule.com
SUMMARY:Seminário prático de SAR
DESCRIPTION:Seminário prático de SAR para cães de detecção de entulho / área / pessoa em equipes de cães desaparecidos nacional e internacionalmente\n\n\n\n\n\n\n\n\n\n\n\n\nEste seminário de 2 dias é oferecido a todos os adestradores de cães de organizações privadas e oficiais de resgate de cães na área de iniciantes e avançados. Os interessados ​​nesta oportunidade de treinamento também estão cordialmente convidados. Isso inclui\, entre outras coisas\, treinamento operacional\, troca de experiências e novos padrões no setor de treinamento. O seminário acima é certificado! Isso significa; Ao final do evento você receberá um certificado confirmando sua participação e atuação. \n\n\nConteúdo com os seguintes pontos focais:\n\nComportamento de exibição\nteoria\nCiência de entulho\nEncontrar / Mostrar\nPrevenção de Acidentes\nconfirme correto\nClassificação da área de pesquisa\nTrabalho em equipe\nnegativo\npositivo\nPontos de partida\ntreinamento rápido e preciso\nEPI\nleitura correta do meu amigo de quatro patas\nInfluências ambientais térmicas / clima\nTrabalhando com as condições climáticas\ntroca de experiência teórica e prática\ncertificado
URL:https://shop.spuerhundeschule.com/schulungen/seminario-pratico-de-sar-para-equipes-de-caes-desaparecidos/
LOCATION:Diadema – Sao Paulo – Brasil\, Av. Casa Grande 769\, Diadema\, Sao Paulo\, 09961-350\, Brasil
CATEGORIES:Cães de resgate treinamento de cães de detecção,Detecção de avalanches,Treinamento de cães para detecção de avalanches,Treinamento especial para equipes de cães farejadores
ATTACH;FMTTYPE=image/jpeg:https://shop.spuerhundeschule.com/wp-content/uploads/2019/10/IMG_E6662.jpg
ORGANIZER;CN="K9 Detection Dog School Brazil LTDa":MAILTO:marcelo.balleroni@spuerhundeschule.com
END:VEVENT
BEGIN:VEVENT
DTSTART;VALUE=DATE:20210627
DTEND;VALUE=DATE:20210629
DTSTAMP:20260421T085738
CREATED:20210201T134551Z
LAST-MODIFIED:20210201T134752Z
UID:325714-1624752000-1624924799@shop.spuerhundeschule.com
SUMMARY:Seminário detecção de explosivos e entorpecentes
DESCRIPTION:Seminário de detecção de drogas\, explosivos de percevejos\, cães nacional e internacionalmente\nEste seminário é oferecido a treinadores de cães da indústria de segurança privada\, interessados ​​em realizar suas ambições profissionais como adestradores especializados\, bem como a instituições oficiais e autoridades que trabalham com cães detectores de explosivos ou drogas. O seminário acima é certificado! Isso significa; Ao final do evento você receberá um certificado confirmando sua participação e atuação.  \nConteúdo com os seguintes focos: \nMissão tática\, técnicas de liderança Teoria / teoria jurídica / teoria USBV / divisão espacial e elaboração Perseguição de pessoas Segurança química / limpeza Diferenciação de odores Métodos de introdução de substâncias Condicionamento em uma parede moderna de busca de doenças Confirmação de trabalho de equipe pontual e preciso Leitura correta de cães Térmica / influências ambientais climáticas Trabalhando com as condições climáticas Condições Troca de experiência teórica e prática Teste funcional real no final do treinamento certificado
URL:https://shop.spuerhundeschule.com/schulungen/seminario-deteccao-de-explosivos-e-entorpecentes/
LOCATION:Diadema – Sao Paulo – Brasil\, Av. Casa Grande 769\, Diadema\, Sao Paulo\, 09961-350\, Brasil
CATEGORIES:Cães detectores de drogas,Treinamento de cães de detecção de explosivos,Treinamento especial para equipes de cães farejadores
ATTACH;FMTTYPE=image/jpeg:https://shop.spuerhundeschule.com/wp-content/uploads/2019/10/Seminario-Navy-Brasil-scaled.jpg
ORGANIZER;CN="K9 Detection Dog School Brazil LTDa":MAILTO:marcelo.balleroni@spuerhundeschule.com
END:VEVENT
BEGIN:VEVENT
DTSTART;VALUE=DATE:20210529
DTEND;VALUE=DATE:20210531
DTSTAMP:20260421T085738
CREATED:20191029T053108Z
LAST-MODIFIED:20210215T193237Z
UID:320886-1622246400-1622419199@shop.spuerhundeschule.com
SUMMARY:Seminário prático de SAR
DESCRIPTION:Seminário prático de SAR para cães de detecção de entulho / área / pessoa em equipes de cães desaparecidos nacional e internacionalmente\n\n\n\n\n\n\n\n\n\n\n\n\nEste seminário de 2 dias é oferecido a todos os adestradores de cães de organizações privadas e oficiais de resgate de cães na área de iniciantes e avançados. Os interessados ​​nesta oportunidade de treinamento também estão cordialmente convidados. Isso inclui\, entre outras coisas\, treinamento operacional\, troca de experiências e novos padrões no setor de treinamento. O seminário acima é certificado! Isso significa; Ao final do evento você receberá um certificado confirmando sua participação e atuação. \n\n\nConteúdo com os seguintes pontos focais:\n\nComportamento de exibição\nteoria\nCiência de entulho\nEncontrar / Mostrar\nPrevenção de Acidentes\nconfirme correto\nClassificação da área de pesquisa\nTrabalho em equipe\nnegativo\npositivo\nPontos de partida\ntreinamento rápido e preciso\nEPI\nleitura correta do meu amigo de quatro patas\nInfluências ambientais térmicas / clima\nTrabalhando com as condições climáticas\ntroca de experiência teórica e prática\ncertificado
URL:https://shop.spuerhundeschule.com/schulungen/seminario-de-pratica-sar/
LOCATION:Diadema – Sao Paulo – Brasil\, Av. Casa Grande 769\, Diadema\, Sao Paulo\, 09961-350\, Brasil
CATEGORIES:Cães de resgate treinamento de cães de detecção,Detecção de avalanches,Treinamento de cães para detecção de avalanches,Treinamento especial para equipes de cães farejadores
ATTACH;FMTTYPE=image/jpeg:https://shop.spuerhundeschule.com/wp-content/uploads/2019/10/IMG_E6662.jpg
ORGANIZER;CN="K9 Detection Dog School Brazil LTDa":MAILTO:marcelo.balleroni@spuerhundeschule.com
END:VEVENT
BEGIN:VEVENT
DTSTART;VALUE=DATE:20210410
DTEND;VALUE=DATE:20210412
DTSTAMP:20260421T085738
CREATED:20210201T175545Z
LAST-MODIFIED:20210201T175634Z
UID:325713-1618012800-1618185599@shop.spuerhundeschule.com
SUMMARY:Workshop Detecção de Explosivos e Entorpecentes
DESCRIPTION:Seminário de detecção de drogas\, explosivos de percevejos\, cães nacional e internacionalmente\nEste seminário é oferecido a treinadores de cães da indústria de segurança privada\, interessados ​​em realizar suas ambições profissionais como adestradores especializados\, bem como a instituições oficiais e autoridades que trabalham com cães detectores de explosivos ou drogas. O seminário acima é certificado! Isso significa; Ao final do evento você receberá um certificado confirmando sua participação e atuação.  \nConteúdo com os seguintes focos: \nMissão tática\, técnicas de liderança Teoria / teoria jurídica / teoria USBV / divisão espacial e elaboração Perseguição de pessoas Segurança química / limpeza Diferenciação de odores Métodos de introdução de substâncias Condicionamento em uma parede moderna de busca de doenças Confirmação de trabalho de equipe pontual e preciso Leitura correta de cães Térmica / influências ambientais climáticas Trabalhando com as condições climáticas Condições Troca de experiência teórica e prática Teste funcional real no final do treinamento certificado
URL:https://shop.spuerhundeschule.com/schulungen/seminario-deteccao-de-explosivos-e-entorpecentes-2/
LOCATION:Diadema – Sao Paulo – Brasil\, Av. Casa Grande 769\, Diadema\, Sao Paulo\, 09961-350\, Brasil
CATEGORIES:Cães detectores de drogas,Treinamento de cães de detecção de explosivos,Treinamento especial para equipes de cães farejadores
ATTACH;FMTTYPE=image/jpeg:https://shop.spuerhundeschule.com/wp-content/uploads/2019/10/Seminario-Navy-Brasil-scaled.jpg
ORGANIZER;CN="K9 Detection Dog School Brazil LTDa":MAILTO:marcelo.balleroni@spuerhundeschule.com
END:VEVENT
END:VCALENDAR